BEGIN:VCALENDAR
VERSION:2.0
PRODID:-//クリエイティブセンター大阪（CCO） - ECPv6.2.1//NONSGML v1.0//EN
CALSCALE:GREGORIAN
METHOD:PUBLISH
X-WR-CALNAME:クリエイティブセンター大阪（CCO）
X-ORIGINAL-URL:https://namura.cc
X-WR-CALDESC:クリエイティブセンター大阪（CCO） のイベント
REFRESH-INTERVAL;VALUE=DURATION:PT1H
X-Robots-Tag:noindex
X-PUBLISHED-TTL:PT1H
BEGIN:VTIMEZONE
TZID:Asia/Tokyo
BEGIN:STANDARD
TZOFFSETFROM:+0900
TZOFFSETTO:+0900
TZNAME:JST
DTSTART:20250101T000000
END:STANDARD
END:VTIMEZONE
BEGIN:VEVENT
DTSTART;VALUE=DATE:20250906
DTEND;VALUE=DATE:20250907
DTSTAMP:20260421T181250
CREATED:20250901T020324Z
LAST-MODIFIED:20250901T020324Z
UID:6261-1757116800-1757203199@namura.cc
SUMMARY:Unsound Osaka @CCO
DESCRIPTION:□日時\n2025年9月6日（土）\nOPEN / START: 15:30 \n□チケット\nZAIKOにて販売中 \n□詳しくは\nhttps://unsound.jp/jp/
URL:https://namura.cc/event/20250906/
ATTACH;FMTTYPE=image/jpeg:https://namura.cc/wp-content/uploads/2025/09/20250906.jpg
END:VEVENT
BEGIN:VEVENT
DTSTART;VALUE=DATE:20250907
DTEND;VALUE=DATE:20250908
DTSTAMP:20260421T181250
CREATED:20250905T025747Z
LAST-MODIFIED:20250905T025747Z
UID:6269-1757203200-1757289599@namura.cc
SUMMARY:大阪フリンジフェスティバル &映画 「THE KILLER GOLDFISH」大阪プレミア試写会
DESCRIPTION:□日時\n2025年9月7日（日）\n13:00 – 15:00［大阪フリンジフェスティバル］\n15:30–開場 15:00-上映スタート［映画 「THE KILLER GOLDFISH」大阪プレミア試写会 ］ \n□内容\nSnowfro × Terry Tomonaga（RIZE3x Founder）トーク／日本語通訳あり \n□詳しくは\n◯RIZE ART DAY – Snowfro スペシャルワークショップとトーク\n参加については、下記フォームよりご登録でご案内ください。\nhttps://luma.com/v2zg5rzh\n・定員に達し次第受付終了 \n◯大阪フリンジフェスティバル\nhttps://osakafringe2025.com
URL:https://namura.cc/event/20250907/
ATTACH;FMTTYPE=image/jpeg:https://namura.cc/wp-content/uploads/2025/09/20250907.jpeg
END:VEVENT
BEGIN:VEVENT
DTSTART;VALUE=DATE:20250913
DTEND;VALUE=DATE:20250915
DTSTAMP:20260421T181250
CREATED:20250826T030358Z
LAST-MODIFIED:20250826T030358Z
UID:6233-1757721600-1757894399@namura.cc
SUMMARY:NEW ENERGY OSAKA
DESCRIPTION:□日時\n2025年\n9月13日(土) 11:00-19:00\n9月14日(日) 11:00-17:00 \n□入場料\n入場無料 \n□詳しくは\nhttps://new-energy.ooo/2025osaka/
URL:https://namura.cc/event/2025091314/
ATTACH;FMTTYPE=image/jpeg:https://namura.cc/wp-content/uploads/2025/08/8502d2a30c12b379fdc260512197faec.jpg
END:VEVENT
BEGIN:VEVENT
DTSTART;TZID=Asia/Tokyo:20250918T150000
DTEND;TZID=Asia/Tokyo:20250918T154000
DTSTAMP:20260421T181250
CREATED:20250818T104355Z
LAST-MODIFIED:20250818T104355Z
UID:6222-1758207600-1758210000@namura.cc
SUMMARY:クリエイティブセンター大阪　ミニ見学ツアー vol.184
DESCRIPTION:近代化産業遺産に認定されている「名村造船跡地」=クリエイティブセンター大阪の館内見学ツアーです。\n造船所跡地の施設内をスタッフがご説明しながらご案内致します。\n※ツアー時間は40分程度を予定しております。（途中退場可） \n■日時\n2025年9月18日（木）15:00 ※30-40分程度\nクリエイティブセンター大阪　入口警備員室前集合 \n■参加方法\n予約不要・現地集合／参加費は無料です。\n※動画撮影はNGとしております。 \n■お問合せ\n06-4702-7085（クリエイティブセンター大阪）
URL:https://namura.cc/event/20250918/
ATTACH;FMTTYPE=image/jpeg:https://namura.cc/wp-content/uploads/2022/12/9a1f83b5ea3772fe94e010ead633edc2.jpeg
END:VEVENT
BEGIN:VEVENT
DTSTART;VALUE=DATE:20250919
DTEND;VALUE=DATE:20250922
DTSTAMP:20260421T181250
CREATED:20250911T060930Z
LAST-MODIFIED:20250911T060930Z
UID:6274-1758240000-1758499199@namura.cc
SUMMARY:DESIGNEAST 2025 - IKIKIIKIIKI（いきき・いきいき）-
DESCRIPTION:□日時\n2025年\n9月19日(金)・20日(土）・21日(日) 11:00-21:00 \n※19日(金)は前夜祭[内覧ツアー＋食事会 or BAR] 18:00-21:00（17:30受付開始）\n＊参加希望者は18時には受付終了するよう早めにお越しください\n＊食事会参加希望者は事前予約をお願いします \n□入場料\n前売りチケットはpeatixよりお買い求めください\n【前売】3日間通しパス（9/19-21）一般¥7\,500 学生¥5\,500\n【前売】2日間通しパス（9/20-21）一般¥5\,500 学生¥3\,500\n【前売】前夜祭入場パス（9/19）一般/学生¥2\,000\n【前売/当日】1日入場パス（9/20 or 21）一般¥3\,000 学生¥2\,000\n＊高校生以下は入場無料\n＊入場後は、トークや展示、映画上映はフリーで、フードやドリンク、物販はキャッシュオンでお楽しみいただけます\n＊前夜祭の「4人のシェフによる、5皿の食事会」、サンダー・ワッシンクによるスタジオ参加費、小林一毅によるライブドローイングは別途お申し込みが必要です \n□詳しくは\nhttps://designeast.jp \n□主催：DESIGNEAST実行委員会（家成俊勝 / 多田智美 / 原田祐馬 / 水野大二郎 / 柳原照弘）\n□特別協力：千島土地株式会社\n□協力：京都工芸繊維大学 KYOTO Design Lab、NEW LIGHT POTTERY
URL:https://namura.cc/event/20250919-21/
ATTACH;FMTTYPE=image/jpeg:https://namura.cc/wp-content/uploads/2025/09/20250619-21.jpg
END:VEVENT
BEGIN:VEVENT
DTSTART;VALUE=DATE:20250920
DTEND;VALUE=DATE:20250922
DTSTAMP:20260421T181250
CREATED:20250829T064554Z
LAST-MODIFIED:20250829T070827Z
UID:6243-1758326400-1758499199@namura.cc
SUMMARY:北加賀屋 MULTI BARTHE　 @CCO敷地内駐車スペース
DESCRIPTION:□日時\n2025年9月20日（土）～11月3日（月・祝）の金土日、祝日\n11:00～21:00（金曜日のみ15時開場） \n□会場\nCCO敷地内駐車スペース\n※同日クリエイティブセンター大阪敷地内の各施設で別のイベント開催中ですので予めご了承下さい。 \n□チケット\n2時間制 4\,500円（税込）\nhttps://coubic.com/desse/2772931 \n□詳しくは\nhttps://multi.barthe.world/ \n□お問い合わせ\n大阪サウナ DESSE　06-4256-4137
URL:https://namura.cc/event/20250920-21/
ATTACH;FMTTYPE=image/jpeg:https://namura.cc/wp-content/uploads/2025/08/multi-barthe.jpeg
END:VEVENT
BEGIN:VEVENT
DTSTART;VALUE=DATE:20250926
DTEND;VALUE=DATE:20250929
DTSTAMP:20260421T181250
CREATED:20250829T070935Z
LAST-MODIFIED:20250829T070935Z
UID:6257-1758844800-1759103999@namura.cc
SUMMARY:北加賀屋 MULTI BARTHE　 @CCO敷地内駐車スペース
DESCRIPTION:□日時\n2025年9月20日（土）～11月3日（月・祝）の金土日、祝日\n11:00～21:00（金曜日のみ15時開場） \n□会場\nCCO敷地内駐車スペース\n※同日クリエイティブセンター大阪敷地内の各施設で別のイベント開催中ですので予めご了承下さい。 \n□チケット\n2時間制 4\,500円（税込）\nhttps://coubic.com/desse/2772931 \n□詳しくは\nhttps://multi.barthe.world/ \n□お問い合わせ\n大阪サウナ DESSE　06-4256-4137
URL:https://namura.cc/event/%e5%8c%97%e5%8a%a0%e8%b3%80%e5%b1%8b-multi-barthe%e3%80%80-cco%e6%95%b7%e5%9c%b0%e5%86%85%e9%a7%90%e8%bb%8a%e3%82%b9%e3%83%9a%e3%83%bc%e3%82%b9/
ATTACH;FMTTYPE=image/jpeg:https://namura.cc/wp-content/uploads/2025/08/multi-barthe.jpeg
END:VEVENT
BEGIN:VEVENT
DTSTART;VALUE=DATE:20250927
DTEND;VALUE=DATE:20250929
DTSTAMP:20260421T181250
CREATED:20250829T062417Z
LAST-MODIFIED:20250829T062417Z
UID:6240-1758931200-1759103999@namura.cc
SUMMARY:OSAKA SOUND BARTHE 2025
DESCRIPTION:□日時\n2025年\n9月27日（土）11：00～21：00（受付時間10：30～20：30）\n9月28日（日）11：00～21：00（受付時間10：30～20：30） \n□チケット\n自由(一般)：¥6\,500\n全自由(一般)：¥8\,500\nＶＩＰ席(一般)：¥15\,000\n通し券(一般)：¥16\,000 \nhttps://eplus.jp/sf/detail/4342980001-P0030001 \n□詳しくは\nhttps://sound.barthe.world \n□お問い合わせ\n大阪サウナ DESSE　06-4256-4137
URL:https://namura.cc/event/20250927-28/
ATTACH;FMTTYPE=image/jpeg:https://namura.cc/wp-content/uploads/2025/08/20250927-28.jpg
END:VEVENT
END:VCALENDAR