BEGIN:VCALENDAR
VERSION:2.0
PRODID:-//クリエイティブセンター大阪（CCO） - ECPv6.2.1//NONSGML v1.0//EN
CALSCALE:GREGORIAN
METHOD:PUBLISH
X-WR-CALNAME:クリエイティブセンター大阪（CCO）
X-ORIGINAL-URL:https://namura.cc
X-WR-CALDESC:クリエイティブセンター大阪（CCO） のイベント
REFRESH-INTERVAL;VALUE=DURATION:PT1H
X-Robots-Tag:noindex
X-PUBLISHED-TTL:PT1H
BEGIN:VTIMEZONE
TZID:Asia/Tokyo
BEGIN:STANDARD
TZOFFSETFROM:+0900
TZOFFSETTO:+0900
TZNAME:JST
DTSTART:20200101T000000
END:STANDARD
END:VTIMEZONE
BEGIN:VEVENT
DTSTART;VALUE=DATE:20201226
DTEND;VALUE=DATE:20201227
DTSTAMP:20260426T110800
CREATED:20230416T060853Z
LAST-MODIFIED:20230416T060853Z
UID:2990-1608940800-1609027199@namura.cc
SUMMARY:【中止】SYMBOL OSAKA vol.17
DESCRIPTION:□日時\n2020年12月26日(土)→中止\nOPEN 13:00\nSTART 13:30\nCLOSE 19:30 \n※新型コロナウイルス感染予防対策を講じてのイベントになります。\nご協力お願いします。 \n□詳しくは\nhttps://twitter.com/Symbol_Osaka
URL:https://namura.cc/event/2020-12-26/
ATTACH;FMTTYPE=image/jpeg:https://namura.cc/wp-content/uploads/2023/04/20201208-sosaka2020.jpg
END:VEVENT
END:VCALENDAR