BEGIN:VCALENDAR
VERSION:2.0
PRODID:-//クリエイティブセンター大阪（CCO） - ECPv6.2.1//NONSGML v1.0//EN
CALSCALE:GREGORIAN
METHOD:PUBLISH
X-WR-CALNAME:クリエイティブセンター大阪（CCO）
X-ORIGINAL-URL:https://namura.cc
X-WR-CALDESC:クリエイティブセンター大阪（CCO） のイベント
REFRESH-INTERVAL;VALUE=DURATION:PT1H
X-Robots-Tag:noindex
X-PUBLISHED-TTL:PT1H
BEGIN:VTIMEZONE
TZID:Asia/Tokyo
BEGIN:STANDARD
TZOFFSETFROM:+0900
TZOFFSETTO:+0900
TZNAME:JST
DTSTART:20210101T000000
END:STANDARD
END:VTIMEZONE
BEGIN:VEVENT
DTSTART;VALUE=DATE:20210314
DTEND;VALUE=DATE:20210315
DTSTAMP:20260426T063940
CREATED:20230416T052147Z
LAST-MODIFIED:20230416T052147Z
UID:2959-1615680000-1615766399@namura.cc
SUMMARY:沈黙のカテゴリー｜Silent Category（おおさか創造千島財団スペース助成）
DESCRIPTION:□会期：2021年3月14日 – 28日（休み：月、火曜日）\n13:00-20:00 \n□入場料：500円（ブループリント*付き）\n*作品解説やドローイング、論考、詩などが含まれた冊子「ブループリント」が入場券となります \n□ステートメント：肥高茉実\n□展示：小松千倫、鈴木雄大、高見澤峻介、都築拓磨、中村葵、三枝愛、宮坂直樹\n□デザイン：八木幣二郎\n□特設ページ：山形一生\n□寄稿：井岡詩子、黒嵜想、水沢なお\n□論考：石原吉郎\n□キュレーション：布施琳太郎\n□映像記録：佐藤友理\n□写真撮影：竹久直樹\n□運送：奥祐司\netc…
URL:https://namura.cc/event/2021-03-14/
ATTACH;FMTTYPE=image/jpeg:https://namura.cc/wp-content/uploads/2023/04/20210217-202103SC.jpg
END:VEVENT
END:VCALENDAR