BEGIN:VCALENDAR
VERSION:2.0
PRODID:-//クリエイティブセンター大阪（CCO） - ECPv6.2.1//NONSGML v1.0//EN
CALSCALE:GREGORIAN
METHOD:PUBLISH
X-WR-CALNAME:クリエイティブセンター大阪（CCO）
X-ORIGINAL-URL:https://namura.cc
X-WR-CALDESC:クリエイティブセンター大阪（CCO） のイベント
REFRESH-INTERVAL;VALUE=DURATION:PT1H
X-Robots-Tag:noindex
X-PUBLISHED-TTL:PT1H
BEGIN:VTIMEZONE
TZID:Asia/Tokyo
BEGIN:STANDARD
TZOFFSETFROM:+0900
TZOFFSETTO:+0900
TZNAME:JST
DTSTART:20210101T000000
END:STANDARD
END:VTIMEZONE
BEGIN:VEVENT
DTSTART;VALUE=DATE:20210322
DTEND;VALUE=DATE:20210323
DTSTAMP:20260426T063940
CREATED:20230416T050944Z
LAST-MODIFIED:20230416T051455Z
UID:2950-1616371200-1616457599@namura.cc
SUMMARY:improvement vol.19
DESCRIPTION:□日時\n2021年3月22日（月）\nOPEN：14:00\nSTART：14:30\nCLOSE：18:00 \n□チケット\n¥2000-\n※ 当日券のみとなり前売り券はございません。\n※感染対策のためお越しの方はこちらにご記入お願いします。 \n□詳細\nDJ：nAOI\nMC：Bold\nGUEST：Acky&Fuu / NAGI thespcstppr / LIT OR SWAG \n□詳しくは\n公式Instagram\nhttps://www.instagram.com/dance_roots/\n公式Twitter\nhttps://mobile.twitter.com/oufsroots
URL:https://namura.cc/event/2021-03-22/
ATTACH;FMTTYPE=:
END:VEVENT
END:VCALENDAR