BEGIN:VCALENDAR
VERSION:2.0
PRODID:-//クリエイティブセンター大阪（CCO） - ECPv6.2.1//NONSGML v1.0//EN
CALSCALE:GREGORIAN
METHOD:PUBLISH
X-WR-CALNAME:クリエイティブセンター大阪（CCO）
X-ORIGINAL-URL:https://namura.cc
X-WR-CALDESC:クリエイティブセンター大阪（CCO） のイベント
REFRESH-INTERVAL;VALUE=DURATION:PT1H
X-Robots-Tag:noindex
X-PUBLISHED-TTL:PT1H
BEGIN:VTIMEZONE
TZID:Asia/Tokyo
BEGIN:STANDARD
TZOFFSETFROM:+0900
TZOFFSETTO:+0900
TZNAME:JST
DTSTART:20210101T000000
END:STANDARD
END:VTIMEZONE
BEGIN:VEVENT
DTSTART;VALUE=DATE:20210801
DTEND;VALUE=DATE:20210802
DTSTAMP:20260425T225523
CREATED:20230416T034412Z
LAST-MODIFIED:20230416T034412Z
UID:2852-1627776000-1627862399@namura.cc
SUMMARY:SUNSHINEJAM 6 "GREEN"
DESCRIPTION:□日時\n2021年8月1日（日）\nOPEN　11:00\nSTART 　12:00\nCLOSE　18:30 \n□FEE\nENTRY　3000YEN (事前エントリー)\nWATCH　2000YEN (観戦・入場)\n※小学生以下観戦無料 \n□詳しくは\nhttp://et-stage.net/event/NC82OTUz/\nInstagram: @sunshinejam_osaka \nSUNSHINEJAMでは、\n今回も新型コロナウィルス感染症対策のガイドラインを作成し、万全の対策を講じて開催致します。\nまた、会場での検温・アルコール消毒など、コロナ対策を講じて開催致しますので、ご来場いただく皆様にもご協力お願い申し上げます。
URL:https://namura.cc/event/2021-08-01/
ATTACH;FMTTYPE=image/jpeg:https://namura.cc/wp-content/uploads/2023/04/20210727-sunshinej6.jpg
END:VEVENT
END:VCALENDAR