BEGIN:VCALENDAR
VERSION:2.0
PRODID:-//クリエイティブセンター大阪（CCO） - ECPv6.2.1//NONSGML v1.0//EN
CALSCALE:GREGORIAN
METHOD:PUBLISH
X-ORIGINAL-URL:https://namura.cc
X-WR-CALDESC:クリエイティブセンター大阪（CCO） のイベント
REFRESH-INTERVAL;VALUE=DURATION:PT1H
X-Robots-Tag:noindex
X-PUBLISHED-TTL:PT1H
BEGIN:VTIMEZONE
TZID:Asia/Tokyo
BEGIN:STANDARD
TZOFFSETFROM:+0900
TZOFFSETTO:+0900
TZNAME:JST
DTSTART:20210101T000000
END:STANDARD
END:VTIMEZONE
BEGIN:VEVENT
DTSTART;VALUE=DATE:20211017
DTEND;VALUE=DATE:20211018
DTSTAMP:20260425T200540
CREATED:20230416T024817Z
LAST-MODIFIED:20230416T025127Z
UID:2803-1634428800-1634515199@namura.cc
SUMMARY:DROP POROX ダンス発表会
DESCRIPTION:□日時\n2021年10月17日（日）\nOPEN 11:00-\n※5部制になります。 \n□詳しくは\nhttp://porox.jp/
URL:https://namura.cc/event/2021-10-17/
ATTACH;FMTTYPE=:
END:VEVENT
BEGIN:VEVENT
DTSTART;VALUE=DATE:20211017
DTEND;VALUE=DATE:20211018
DTSTAMP:20260425T200540
CREATED:20230416T025229Z
LAST-MODIFIED:20230416T025245Z
UID:2805-1634428800-1634515199@namura.cc
SUMMARY:第2次 #スーパーロボコス大展
DESCRIPTION:□日時\n2021年10月17日（日）\nOPEN : 11:00-\nCLOSE : 17:00- \n□入場料\n無料 \n□詳しくは\n・公式ホームページ\nhttps://www.s-r-e-2021.com/\n・公式Twitterアカウント\nhttps://twitter.com/Robocos_Expo
URL:https://namura.cc/event/2021-10-17-2/
ATTACH;FMTTYPE=image/jpeg:https://namura.cc/wp-content/uploads/2023/04/20211005-robokos.jpg
END:VEVENT
END:VCALENDAR