BEGIN:VCALENDAR
VERSION:2.0
PRODID:-//クリエイティブセンター大阪（CCO） - ECPv6.2.1//NONSGML v1.0//EN
CALSCALE:GREGORIAN
METHOD:PUBLISH
X-ORIGINAL-URL:https://namura.cc
X-WR-CALDESC:クリエイティブセンター大阪（CCO） のイベント
REFRESH-INTERVAL;VALUE=DURATION:PT1H
X-Robots-Tag:noindex
X-PUBLISHED-TTL:PT1H
BEGIN:VTIMEZONE
TZID:Asia/Tokyo
BEGIN:STANDARD
TZOFFSETFROM:+0900
TZOFFSETTO:+0900
TZNAME:JST
DTSTART:20210101T000000
END:STANDARD
END:VTIMEZONE
BEGIN:VEVENT
DTSTART;VALUE=DATE:20211030
DTEND;VALUE=DATE:20211031
DTSTAMP:20260425T201457
CREATED:20230416T021737Z
LAST-MODIFIED:20230416T021832Z
UID:2797-1635552000-1635638399@namura.cc
SUMMARY:夢を叶えるファッションショー
DESCRIPTION:□日時\n2021年10月30日 （土）\n開場：13:00\n開演：14:00〜18:00\n※定員：94名 \n□チケット\n10\,500円（税抜き）早割りあり\nURL: https://fashionshow-sayaka.peatix.com \n□お問い合わせ先\n夢を叶えるファッションショープロジェクト\nE-mail：sayaka.project1030@gmail.com \n□主催\nSAYAKA
URL:https://namura.cc/event/2021-10-30/
ATTACH;FMTTYPE=image/jpeg:https://namura.cc/wp-content/uploads/2023/04/20210921-20211030yumewokanaeru.jpg
END:VEVENT
END:VCALENDAR