BEGIN:VCALENDAR
VERSION:2.0
PRODID:-//クリエイティブセンター大阪（CCO） - ECPv6.2.1//NONSGML v1.0//EN
CALSCALE:GREGORIAN
METHOD:PUBLISH
X-WR-CALNAME:クリエイティブセンター大阪（CCO）
X-ORIGINAL-URL:https://namura.cc
X-WR-CALDESC:クリエイティブセンター大阪（CCO） のイベント
REFRESH-INTERVAL;VALUE=DURATION:PT1H
X-Robots-Tag:noindex
X-PUBLISHED-TTL:PT1H
BEGIN:VTIMEZONE
TZID:Asia/Tokyo
BEGIN:STANDARD
TZOFFSETFROM:+0900
TZOFFSETTO:+0900
TZNAME:JST
DTSTART:20210101T000000
END:STANDARD
END:VTIMEZONE
BEGIN:VEVENT
DTSTART;VALUE=DATE:20211031
DTEND;VALUE=DATE:20211101
DTSTAMP:20260425T200542
CREATED:20230416T020610Z
LAST-MODIFIED:20230416T021208Z
UID:2790-1635638400-1635724799@namura.cc
SUMMARY:BLOW vol.8　/ TARGET vol.9
DESCRIPTION:□日時\n2021年10月31日(日)\n開場 13:00〜19:00 \n□チケット\n前売　3000円\n当日　3500円\n※別途入場の際にドリンク代500円を頂戴いたします。 \n□詳しくは\nhttps://www.sprout-dance.com/contents/recital20211031/
URL:https://namura.cc/event/2021-10-31/
ATTACH;FMTTYPE=:
END:VEVENT
END:VCALENDAR