BEGIN:VCALENDAR
VERSION:2.0
PRODID:-//クリエイティブセンター大阪（CCO） - ECPv6.2.1//NONSGML v1.0//EN
CALSCALE:GREGORIAN
METHOD:PUBLISH
X-ORIGINAL-URL:https://namura.cc
X-WR-CALDESC:クリエイティブセンター大阪（CCO） のイベント
REFRESH-INTERVAL;VALUE=DURATION:PT1H
X-Robots-Tag:noindex
X-PUBLISHED-TTL:PT1H
BEGIN:VTIMEZONE
TZID:Asia/Tokyo
BEGIN:STANDARD
TZOFFSETFROM:+0900
TZOFFSETTO:+0900
TZNAME:JST
DTSTART:20220101T000000
END:STANDARD
END:VTIMEZONE
BEGIN:VEVENT
DTSTART;VALUE=DATE:20220327
DTEND;VALUE=DATE:20220328
DTSTAMP:20260425T113836
CREATED:20230415T091647Z
LAST-MODIFIED:20230415T091700Z
UID:2686-1648339200-1648425599@namura.cc
SUMMARY:MAI 2022　( ﾅﾆﾜｵﾏﾂﾘｴﾝﾀｰﾃｲﾒﾝﾄ舞)
DESCRIPTION:□日時\n2022年3月27日（日）\n11:00-20:30予定 \n□チケット\nADV.3000円 1D別500円\nDOOR.3500円 1D別500円\n中学生以下入場無料 \n□詳しくは\nhttps://www.instagram.com/danceevent_mai_2022/
URL:https://namura.cc/event/2022-03-27/
ATTACH;FMTTYPE=:
END:VEVENT
BEGIN:VEVENT
DTSTART;VALUE=DATE:20220327
DTEND;VALUE=DATE:20220328
DTSTAMP:20260425T113836
CREATED:20230415T091905Z
LAST-MODIFIED:20230415T091924Z
UID:2691-1648339200-1648425599@namura.cc
SUMMARY:GOOD FOR THE EARTH -今日、僕らは地球を好きになる−
DESCRIPTION:□日時\n2022年3月27日（日）\n11:00-19:00 \n□入場料\n学生 1000円\n大人 2000円 \n［団体割］\n学生10人　8000円\n大人10人　15000円 \n※購入はクラファンのサイトから可能です。 \n□詳しくは\n誰ひとり取り残さない希望で溢れたアースフェスを開催したい
URL:https://namura.cc/event/2022-03-27-2/
ATTACH;FMTTYPE=image/jpeg:https://namura.cc/wp-content/uploads/2023/04/20220323-gat2022.jpg
END:VEVENT
END:VCALENDAR