BEGIN:VCALENDAR
VERSION:2.0
PRODID:-//クリエイティブセンター大阪（CCO） - ECPv6.2.1//NONSGML v1.0//EN
CALSCALE:GREGORIAN
METHOD:PUBLISH
X-ORIGINAL-URL:https://namura.cc
X-WR-CALDESC:クリエイティブセンター大阪（CCO） のイベント
REFRESH-INTERVAL;VALUE=DURATION:PT1H
X-Robots-Tag:noindex
X-PUBLISHED-TTL:PT1H
BEGIN:VTIMEZONE
TZID:Asia/Tokyo
BEGIN:STANDARD
TZOFFSETFROM:+0900
TZOFFSETTO:+0900
TZNAME:JST
DTSTART:20220101T000000
END:STANDARD
END:VTIMEZONE
BEGIN:VEVENT
DTSTART;VALUE=DATE:20220515
DTEND;VALUE=DATE:20220516
DTSTAMP:20260425T075845
CREATED:20230415T090405Z
LAST-MODIFIED:20230415T090425Z
UID:2673-1652572800-1652659199@namura.cc
SUMMARY:HARUROC2022
DESCRIPTION:□日時\n2022年5月15日(日)\nopen12:00\nstart13:00 \n□料金\nADV ¥3\,000［入場時別途1drink代500円］\nDOOR ¥3\,500［入場時別途1drink代500円］ \n□詳しくは\nhttps://camuro.jp/haruroc2022/
URL:https://namura.cc/event/2022-05-15/
ATTACH;FMTTYPE=image/jpeg:https://namura.cc/wp-content/uploads/2023/04/20220506-haruroc2022.jpg
END:VEVENT
END:VCALENDAR