BEGIN:VCALENDAR
VERSION:2.0
PRODID:-//クリエイティブセンター大阪（CCO） - ECPv6.2.1//NONSGML v1.0//EN
CALSCALE:GREGORIAN
METHOD:PUBLISH
X-ORIGINAL-URL:https://namura.cc
X-WR-CALDESC:クリエイティブセンター大阪（CCO） のイベント
REFRESH-INTERVAL;VALUE=DURATION:PT1H
X-Robots-Tag:noindex
X-PUBLISHED-TTL:PT1H
BEGIN:VTIMEZONE
TZID:Asia/Tokyo
BEGIN:STANDARD
TZOFFSETFROM:+0900
TZOFFSETTO:+0900
TZNAME:JST
DTSTART:20220101T000000
END:STANDARD
END:VTIMEZONE
BEGIN:VEVENT
DTSTART;VALUE=DATE:20220908
DTEND;VALUE=DATE:20220919
DTSTAMP:20260425T011732
CREATED:20230415T075119Z
LAST-MODIFIED:20230415T075228Z
UID:2621-1662595200-1663545599@namura.cc
SUMMARY:林勇気個展「君はいつだって世界の入り口を探していた」
DESCRIPTION:□日時\n2022年\n9月8日(木)～11(日)\n9月15(木)～19日(月・祝)\n12:00～18:00 \n※本展の演出として、開館後に順次、映像機器を立ち上げ、30分ほどで全展示作品をご覧いただけるようになります。また閉館30分前より徐々に機器の電源を落とし、最後は蝋燭の灯火のみの中で皆様と余韻を共有します。 \n□入場料\n入場無料\n□詳しくは\nhttps://chishima-foundation.com/projects/yukihayashi_exhibition \n□主催：一般財団法人 おおさか創造千島財団\n□助成：公益財団法人朝日新聞文化財団、公益財団法人花王芸術・科学財団、公益財団法人野村財団\n□協力：千島土地株式会社、株式会社名村造船所 \n[続きを読む]
URL:https://namura.cc/event/2022-09-08/
ATTACH;FMTTYPE=image/jpeg:https://namura.cc/wp-content/uploads/2023/04/20220818-hayashikoten.jpg
END:VEVENT
END:VCALENDAR