BEGIN:VCALENDAR
VERSION:2.0
PRODID:-//クリエイティブセンター大阪（CCO） - ECPv6.2.1//NONSGML v1.0//EN
CALSCALE:GREGORIAN
METHOD:PUBLISH
X-WR-CALNAME:クリエイティブセンター大阪（CCO）
X-ORIGINAL-URL:https://namura.cc
X-WR-CALDESC:クリエイティブセンター大阪（CCO） のイベント
REFRESH-INTERVAL;VALUE=DURATION:PT1H
X-Robots-Tag:noindex
X-PUBLISHED-TTL:PT1H
BEGIN:VTIMEZONE
TZID:Asia/Tokyo
BEGIN:STANDARD
TZOFFSETFROM:+0900
TZOFFSETTO:+0900
TZNAME:JST
DTSTART:20230101T000000
END:STANDARD
END:VTIMEZONE
BEGIN:VEVENT
DTSTART;VALUE=DATE:20230304
DTEND;VALUE=DATE:20230305
DTSTAMP:20260423T235358
CREATED:20230415T052713Z
LAST-MODIFIED:20230415T063133Z
UID:2391-1677888000-1677974399@namura.cc
SUMMARY:5TH ANNIVERSARY 『VINTAGE』
DESCRIPTION:□日時\n2023年3月4日(土)\nOPEN 13:00- \n□チケット\nADV ¥1500-+1drink \n□詳しくは\nhttps://www.instagram.com/vintage_0saka/
URL:https://namura.cc/event/2023-03-04/
ATTACH;FMTTYPE=image/jpeg:https://namura.cc/wp-content/uploads/2023/04/20230222-vintage8.jpg
END:VEVENT
END:VCALENDAR