BEGIN:VCALENDAR
VERSION:2.0
PRODID:-//クリエイティブセンター大阪（CCO） - ECPv6.2.1//NONSGML v1.0//EN
CALSCALE:GREGORIAN
METHOD:PUBLISH
X-WR-CALNAME:クリエイティブセンター大阪（CCO）
X-ORIGINAL-URL:https://namura.cc
X-WR-CALDESC:クリエイティブセンター大阪（CCO） のイベント
REFRESH-INTERVAL;VALUE=DURATION:PT1H
X-Robots-Tag:noindex
X-PUBLISHED-TTL:PT1H
BEGIN:VTIMEZONE
TZID:Asia/Tokyo
BEGIN:STANDARD
TZOFFSETFROM:+0900
TZOFFSETTO:+0900
TZNAME:JST
DTSTART:20230101T000000
END:STANDARD
END:VTIMEZONE
BEGIN:VEVENT
DTSTART;VALUE=DATE:20230409
DTEND;VALUE=DATE:20230410
DTSTAMP:20260423T223326
CREATED:20230418T083143Z
LAST-MODIFIED:20230418T083256Z
UID:3410-1680998400-1681084799@namura.cc
SUMMARY:NAMURA ART MEETING ’04–’34 Vol.06「臨海の創造論Ⅱ EX-POSITIONING OVER 2025」
DESCRIPTION:□日時\n2023年4月9日（日）\n14:00～20:00　ミーティング#03\n14:30～16:00　ミーティング#01\n16:30～18:30　ミーティング#02 \n□料金\n前売 2\,000円\n当日 2\,500円\nオンライン配信 1\,000円\n※販売方法は後日発表 \n□ゲスト：\n＜ミーティング#01＞\n伊東豊雄（建築家）、藤村龍至（建築家・東京芸術大学准教授/RFA主宰） \n＜ミーティング#02＞\n家成俊勝（建築家）、笹原晃平（アーティスト）、多田智美（編集者）、塚原悠也（アーティスト）、モデレーター／山本浩貴（文化研究者） \n＜ミーティング#03>\nキュレーション／⽇野浩志郎(⾳楽家・作曲家)、作曲・構成／DODDODO(⾳楽家)、出演／関⼝⼤和（⾃作楽器、electronics）、梅⽥哲也 他、⽴⽯雷（笛、太⿎）、⽯原只寛（sax electronics）、カメイナホコ、Juri Suzue（electronics）、1729（DJ）、⾓⽮胡桃（electronics）、Flagio（Kontrabass）、⼭内弘太（guitar）、⼭本信紀（トランペット、electronics）、⽥上敦⺒（electronics）、吉⽥ヤスシ（vocal、electronics）、DODDODO（electronics） \n□詳しくは\nおおさか創造千島財団\nhttps://chishima-foundation.com/topics/news/20230228.html \n\nプレスリリース（2023/2/28） \n□主催\nNAMURA ART MEETING ’04–’34実行委員会
URL:https://namura.cc/event/2023-04-09/
ATTACH;FMTTYPE=image/jpeg:https://namura.cc/wp-content/uploads/2023/04/20230306-namu6.jpg
END:VEVENT
END:VCALENDAR