BEGIN:VCALENDAR
VERSION:2.0
PRODID:-//クリエイティブセンター大阪（CCO） - ECPv6.2.1//NONSGML v1.0//EN
CALSCALE:GREGORIAN
METHOD:PUBLISH
X-ORIGINAL-URL:https://namura.cc
X-WR-CALDESC:クリエイティブセンター大阪（CCO） のイベント
REFRESH-INTERVAL;VALUE=DURATION:PT1H
X-Robots-Tag:noindex
X-PUBLISHED-TTL:PT1H
BEGIN:VTIMEZONE
TZID:Asia/Tokyo
BEGIN:STANDARD
TZOFFSETFROM:+0900
TZOFFSETTO:+0900
TZNAME:JST
DTSTART:20230101T000000
END:STANDARD
END:VTIMEZONE
BEGIN:VEVENT
DTSTART;VALUE=DATE:20230429
DTEND;VALUE=DATE:20230430
DTSTAMP:20260423T223325
CREATED:20230418T082807Z
LAST-MODIFIED:20230418T082807Z
UID:3401-1682726400-1682812799@namura.cc
SUMMARY:愛酒でいと 2023
DESCRIPTION:□日時\n2023年4月29日 (土)\nOPEN:13:00 open\nSTART:13:30\nCLOSE:18:00 \n□料金\n前売り 3900 円(e プラス 4200 円)\n3月中旬販売開始!\n当日4300 円\n※前売りチケットは参加飲食店、酒販店にて販売します。\n※会場での飲食には別途費用(キャッシュオン)が必要です。\n※前売りチケットが完売した場合、当日券の販売はありません。 \n□詳しくは\nhttps://www.instagram.com/aishudeito/
URL:https://namura.cc/event/%e6%84%9b%e9%85%92%e3%81%a7%e3%81%84%e3%81%a8-2023/
ATTACH;FMTTYPE=image/jpeg:https://namura.cc/wp-content/uploads/2023/04/20230414-isyu_pop.jpg
END:VEVENT
END:VCALENDAR