BEGIN:VCALENDAR
VERSION:2.0
PRODID:-//クリエイティブセンター大阪（CCO） - ECPv6.2.1//NONSGML v1.0//EN
CALSCALE:GREGORIAN
METHOD:PUBLISH
X-ORIGINAL-URL:https://namura.cc
X-WR-CALDESC:クリエイティブセンター大阪（CCO） のイベント
REFRESH-INTERVAL;VALUE=DURATION:PT1H
X-Robots-Tag:noindex
X-PUBLISHED-TTL:PT1H
BEGIN:VTIMEZONE
TZID:Asia/Tokyo
BEGIN:STANDARD
TZOFFSETFROM:+0900
TZOFFSETTO:+0900
TZNAME:JST
DTSTART:20230101T000000
END:STANDARD
END:VTIMEZONE
BEGIN:VEVENT
DTSTART;VALUE=DATE:20230726
DTEND;VALUE=DATE:20230801
DTSTAMP:20260423T194912
CREATED:20230819T071715Z
LAST-MODIFIED:20230907T102740Z
UID:4477-1690329600-1690847999@namura.cc
SUMMARY:ART OSAKA 2023 Expanded セクション
DESCRIPTION:□日時\n2023年7月26日(水)―7月31日(月)\n一般公開\n26日(水)・27日(木) 13:00―19:00\n28日(金)~30日(日) 11:00―19:00\n31日(月) 11:00―17:00 \n□チケット\nExpandedチケット\n¥1\,500 （当日窓口払いのみ） \n□詳しくは\nhttps://www.artosaka.jp/2023/jp/ \n 
URL:https://namura.cc/event/2023-07-26-31/
ATTACH;FMTTYPE=image/jpeg:https://namura.cc/wp-content/uploads/2023/08/2160415.jpg
END:VEVENT
END:VCALENDAR