BEGIN:VCALENDAR
VERSION:2.0
PRODID:-//クリエイティブセンター大阪（CCO） - ECPv6.2.1//NONSGML v1.0//EN
CALSCALE:GREGORIAN
METHOD:PUBLISH
X-ORIGINAL-URL:https://namura.cc
X-WR-CALDESC:クリエイティブセンター大阪（CCO） のイベント
REFRESH-INTERVAL;VALUE=DURATION:PT1H
X-Robots-Tag:noindex
X-PUBLISHED-TTL:PT1H
BEGIN:VTIMEZONE
TZID:Asia/Tokyo
BEGIN:STANDARD
TZOFFSETFROM:+0900
TZOFFSETTO:+0900
TZNAME:JST
DTSTART:20230101T000000
END:STANDARD
END:VTIMEZONE
BEGIN:VEVENT
DTSTART;VALUE=DATE:20231125
DTEND;VALUE=DATE:20231127
DTSTAMP:20260423T080354
CREATED:20231102T062335Z
LAST-MODIFIED:20231102T062335Z
UID:5128-1700870400-1701043199@namura.cc
SUMMARY:第4次スーパーロボコス大展
DESCRIPTION:■日時\n2023年\n11月25日(土)13:00-19:00\n11月26日(日)10:00-17:00 \n■入場料\n一般入場無料 \n■詳しくは\n第4次スーパーロボコス大展
URL:https://namura.cc/event/20231125-26/
ATTACH;FMTTYPE=image/jpeg:https://namura.cc/wp-content/uploads/2023/11/20231125-26.jpg
END:VEVENT
BEGIN:VEVENT
DTSTART;VALUE=DATE:20231126
DTEND;VALUE=DATE:20231127
DTSTAMP:20260423T080354
CREATED:20231111T065454Z
LAST-MODIFIED:20231111T083648Z
UID:5176-1700956800-1701043199@namura.cc
SUMMARY:SYMBOL KOBE vol.20
DESCRIPTION:□日時\n2023年11月26日(日)\nOPEN 13:30-\nCLOSE 20:00- \n□チケット \n□詳しくは\nhttps://www.instagram.com/symbol_kobe/
URL:https://namura.cc/event/20231126/
ATTACH;FMTTYPE=image/jpeg:https://namura.cc/wp-content/uploads/2023/11/20231126o.jpg
END:VEVENT
END:VCALENDAR