BEGIN:VCALENDAR
VERSION:2.0
PRODID:-//クリエイティブセンター大阪（CCO） - ECPv6.2.1//NONSGML v1.0//EN
CALSCALE:GREGORIAN
METHOD:PUBLISH
X-ORIGINAL-URL:https://namura.cc
X-WR-CALDESC:クリエイティブセンター大阪（CCO） のイベント
REFRESH-INTERVAL;VALUE=DURATION:PT1H
X-Robots-Tag:noindex
X-PUBLISHED-TTL:PT1H
BEGIN:VTIMEZONE
TZID:Asia/Tokyo
BEGIN:STANDARD
TZOFFSETFROM:+0900
TZOFFSETTO:+0900
TZNAME:JST
DTSTART:20240101T000000
END:STANDARD
END:VTIMEZONE
BEGIN:VEVENT
DTSTART;VALUE=DATE:20240428
DTEND;VALUE=DATE:20240429
DTSTAMP:20260423T003604
CREATED:20240324T055343Z
LAST-MODIFIED:20240324T055343Z
UID:5392-1714262400-1714348799@namura.cc
SUMMARY:Freak style session vol.16
DESCRIPTION:□日時\n2024年4月28日(日)\n11:00- OPEN\n12:00- START\n20:00- CLOSE \n□料金\nEntry / 3500yen\n観戦 / 2500yen\nコスプレ観戦 / 1500yen \n□詳しくは\nhttps://twitter.com/fk_stylesession
URL:https://namura.cc/event/20240428/
ATTACH;FMTTYPE=image/jpeg:https://namura.cc/wp-content/uploads/2024/03/20240428.jpg
END:VEVENT
END:VCALENDAR