BEGIN:VCALENDAR
VERSION:2.0
PRODID:-//クリエイティブセンター大阪（CCO） - ECPv6.2.1//NONSGML v1.0//EN
CALSCALE:GREGORIAN
METHOD:PUBLISH
X-WR-CALNAME:クリエイティブセンター大阪（CCO）
X-ORIGINAL-URL:https://namura.cc
X-WR-CALDESC:クリエイティブセンター大阪（CCO） のイベント
REFRESH-INTERVAL;VALUE=DURATION:PT1H
X-Robots-Tag:noindex
X-PUBLISHED-TTL:PT1H
BEGIN:VTIMEZONE
TZID:Asia/Tokyo
BEGIN:STANDARD
TZOFFSETFROM:+0900
TZOFFSETTO:+0900
TZNAME:JST
DTSTART:20240101T000000
END:STANDARD
END:VTIMEZONE
BEGIN:VEVENT
DTSTART;VALUE=DATE:20240718
DTEND;VALUE=DATE:20240723
DTSTAMP:20260422T195625
CREATED:20240625T045731Z
LAST-MODIFIED:20240625T045731Z
UID:5542-1721260800-1721692799@namura.cc
SUMMARY:ART OSAKA 2024 Expanded Section
DESCRIPTION:□日時\n2024年\n7月18日(木)　14:00-19:00\n7月19日(金)〜21日(日)　11:00-19:00\n7月22日(月)　11:00-17:00 \n□チケット\n・ART OSAKA チケット（3会場入場可能）\n　オンラインチケット: ¥3\,000\n　当日券: ¥3\,500 \n・Expandedチケット\n　¥1\,500 （当日券のみ） \n□詳しくは\nART OSAKA 2024\nhttps://www.artosaka.jp/2024/jp/expanded/
URL:https://namura.cc/event/20240718-22/
ATTACH;FMTTYPE=image/jpeg:https://namura.cc/wp-content/uploads/2024/06/artosaka2024.jpeg
END:VEVENT
END:VCALENDAR