BEGIN:VCALENDAR
VERSION:2.0
PRODID:-//クリエイティブセンター大阪（CCO） - ECPv6.2.1//NONSGML v1.0//EN
CALSCALE:GREGORIAN
METHOD:PUBLISH
X-WR-CALNAME:クリエイティブセンター大阪（CCO）
X-ORIGINAL-URL:https://namura.cc
X-WR-CALDESC:クリエイティブセンター大阪（CCO） のイベント
REFRESH-INTERVAL;VALUE=DURATION:PT1H
X-Robots-Tag:noindex
X-PUBLISHED-TTL:PT1H
BEGIN:VTIMEZONE
TZID:Asia/Tokyo
BEGIN:STANDARD
TZOFFSETFROM:+0900
TZOFFSETTO:+0900
TZNAME:JST
DTSTART:20240101T000000
END:STANDARD
END:VTIMEZONE
BEGIN:VEVENT
DTSTART;VALUE=DATE:20241122
DTEND;VALUE=DATE:20241124
DTSTAMP:20260422T141136
CREATED:20240731T011328Z
LAST-MODIFIED:20240731T011328Z
UID:5598-1732233600-1732406399@namura.cc
SUMMARY:AVS2024＠OSAKA
DESCRIPTION:□日時\nDay1：2024年11月22日（金）17:00~\nDay2：2024年11月23日（土）12:45~ \n□チケット\n\n・Day1のみ：5000円\n・Day2のみ：10000円\n・Day1&Day2：15000円 \n\n・Day1のみ：5000円\n・Day2のみ：15000円\n・Day1&Day2：20000円 \n□詳しくは\nhttps://www.atotsugiventuresummit.jp
URL:https://namura.cc/event/20241122-23/
ATTACH;FMTTYPE=image/jpeg:https://namura.cc/wp-content/uploads/2024/07/avs2024.jpeg
END:VEVENT
BEGIN:VEVENT
DTSTART;VALUE=DATE:20241123
DTEND;VALUE=DATE:20241124
DTSTAMP:20260422T141136
CREATED:20241121T033642Z
LAST-MODIFIED:20241121T033642Z
UID:5774-1732320000-1732406399@namura.cc
SUMMARY:MARVELOUS OSAKA 2024
DESCRIPTION:□日時\n2024年11月23日(土)\nOPEN 14:00\nCLOSE 20:00 \n□チケット\n前売¥1\,000 / 当日¥3\,000\n※12歳未満入場料のみ無料\n※入場の際に別途¥2\,000必要(2drink1food代) \n□詳しくは\nhttps://www.instagram.com/marvelous_group/
URL:https://namura.cc/event/20241123/
ATTACH;FMTTYPE=image/jpeg:https://namura.cc/wp-content/uploads/2024/11/20241123.jpeg
END:VEVENT
END:VCALENDAR