BEGIN:VCALENDAR
VERSION:2.0
PRODID:-//クリエイティブセンター大阪（CCO） - ECPv6.2.1//NONSGML v1.0//EN
CALSCALE:GREGORIAN
METHOD:PUBLISH
X-ORIGINAL-URL:https://namura.cc
X-WR-CALDESC:クリエイティブセンター大阪（CCO） のイベント
REFRESH-INTERVAL;VALUE=DURATION:PT1H
X-Robots-Tag:noindex
X-PUBLISHED-TTL:PT1H
BEGIN:VTIMEZONE
TZID:Asia/Tokyo
BEGIN:STANDARD
TZOFFSETFROM:+0900
TZOFFSETTO:+0900
TZNAME:JST
DTSTART:20240101T000000
END:STANDARD
END:VTIMEZONE
BEGIN:VEVENT
DTSTART;VALUE=DATE:20241130
DTEND;VALUE=DATE:20241201
DTSTAMP:20260422T123924
CREATED:20241116T035021Z
LAST-MODIFIED:20241116T035021Z
UID:5763-1732924800-1733011199@namura.cc
SUMMARY:SYMBOL KOBE vol.21
DESCRIPTION:□日時\n2024年11月30日(土)\nOPEN 13:00\nSTART 14:00\nCLOSE 20:30 \n□チケット\n¥3000- \n□詳しくは\nhttps://www.instagram.com/symbol_kobe/
URL:https://namura.cc/event/20241130/
ATTACH;FMTTYPE=image/jpeg:https://namura.cc/wp-content/uploads/2024/11/20241130.jpg
END:VEVENT
END:VCALENDAR