BEGIN:VCALENDAR
VERSION:2.0
PRODID:-//クリエイティブセンター大阪（CCO） - ECPv6.2.1//NONSGML v1.0//EN
CALSCALE:GREGORIAN
METHOD:PUBLISH
X-WR-CALNAME:クリエイティブセンター大阪（CCO）
X-ORIGINAL-URL:https://namura.cc
X-WR-CALDESC:クリエイティブセンター大阪（CCO） のイベント
REFRESH-INTERVAL;VALUE=DURATION:PT1H
X-Robots-Tag:noindex
X-PUBLISHED-TTL:PT1H
BEGIN:VTIMEZONE
TZID:Asia/Tokyo
BEGIN:STANDARD
TZOFFSETFROM:+0900
TZOFFSETTO:+0900
TZNAME:JST
DTSTART:20240101T000000
END:STANDARD
END:VTIMEZONE
BEGIN:VEVENT
DTSTART;VALUE=DATE:20241201
DTEND;VALUE=DATE:20241202
DTSTAMP:20260422T123818
CREATED:20241113T085729Z
LAST-MODIFIED:20241113T090012Z
UID:5747-1733011200-1733097599@namura.cc
SUMMARY:NAMURA ATTACK2024
DESCRIPTION:□日時\n2024年12月1日（日）\nOPEN 12:30\nCLOSE 21:00 \n□チケット\nADV ¥4\,000-\nDOOR ¥4\,500-\n※入場時に別途1D代 ¥500- \n□詳しくは\nhttps://freshdancestudio.com/news/details/431.html
URL:https://namura.cc/event/20241201/
ATTACH;FMTTYPE=image/jpeg:https://namura.cc/wp-content/uploads/2024/11/NAMURAattack202412.jpg
END:VEVENT
END:VCALENDAR