BEGIN:VCALENDAR
VERSION:2.0
PRODID:-//クリエイティブセンター大阪（CCO） - ECPv6.2.1//NONSGML v1.0//EN
CALSCALE:GREGORIAN
METHOD:PUBLISH
X-WR-CALNAME:クリエイティブセンター大阪（CCO）
X-ORIGINAL-URL:https://namura.cc
X-WR-CALDESC:クリエイティブセンター大阪（CCO） のイベント
REFRESH-INTERVAL;VALUE=DURATION:PT1H
X-Robots-Tag:noindex
X-PUBLISHED-TTL:PT1H
BEGIN:VTIMEZONE
TZID:Asia/Tokyo
BEGIN:STANDARD
TZOFFSETFROM:+0900
TZOFFSETTO:+0900
TZNAME:JST
DTSTART:20240101T000000
END:STANDARD
END:VTIMEZONE
BEGIN:VEVENT
DTSTART;VALUE=DATE:20241208
DTEND;VALUE=DATE:20241209
DTSTAMP:20260422T123818
CREATED:20241127T060222Z
LAST-MODIFIED:20241127T060222Z
UID:5785-1733616000-1733702399@namura.cc
SUMMARY:INiTiaL Fes
DESCRIPTION:□日時\n2024年12月8日(日)\nOPEN 12:30-\nSTART 13:00-\nCLOSE 18:30- \n□観覧費\n¥2\,000/人 \n□詳しくは\nhttps://www.instagram.com/initial_0620/
URL:https://namura.cc/event/20241208/
ATTACH;FMTTYPE=image/jpeg:https://namura.cc/wp-content/uploads/2024/11/20241208.jpeg
END:VEVENT
END:VCALENDAR