BEGIN:VCALENDAR
VERSION:2.0
PRODID:-//クリエイティブセンター大阪（CCO） - ECPv6.2.1//NONSGML v1.0//EN
CALSCALE:GREGORIAN
METHOD:PUBLISH
X-ORIGINAL-URL:https://namura.cc
X-WR-CALDESC:クリエイティブセンター大阪（CCO） のイベント
REFRESH-INTERVAL;VALUE=DURATION:PT1H
X-Robots-Tag:noindex
X-PUBLISHED-TTL:PT1H
BEGIN:VTIMEZONE
TZID:Asia/Tokyo
BEGIN:STANDARD
TZOFFSETFROM:+0900
TZOFFSETTO:+0900
TZNAME:JST
DTSTART:20250101T000000
END:STANDARD
END:VTIMEZONE
BEGIN:VEVENT
DTSTART;VALUE=DATE:20250426
DTEND;VALUE=DATE:20250427
DTSTAMP:20260422T060907
CREATED:20250404T023806Z
LAST-MODIFIED:20250424T030822Z
UID:6022-1745625600-1745711999@namura.cc
SUMMARY:全国４７都道府県ひとりコンサート 明和電機★UMEツアー2025（大阪公演）
DESCRIPTION:□日時\n2025年4月26日（土）\n開場 15:30-\n開演 16:00- \n□チケット\n一般　　　　　　  ：2\,000円(税込)\n小人（小学生以下）：1\,000円(税込)\n※いずれのチケットも3歳以下は無料。但し、座席が必要な場合は小人のチケットの対象となります。\n※共催公演、（株）明和電機以外の主催公演では料金に変動がある場合があります。\n※詳細は会場、チケット情報の詳細をご確認ください。\neプラス \n□詳しくは\nhttps://www.maywadenki.com/news/umetour2025/ \n主催：明和電機\n特別協力：千島土地株式会社
URL:https://namura.cc/event/20250426/
ATTACH;FMTTYPE=image/jpeg:https://namura.cc/wp-content/uploads/2025/04/20250426.jpg
END:VEVENT
END:VCALENDAR