BEGIN:VCALENDAR
VERSION:2.0
PRODID:-//クリエイティブセンター大阪（CCO） - ECPv6.2.1//NONSGML v1.0//EN
CALSCALE:GREGORIAN
METHOD:PUBLISH
X-ORIGINAL-URL:https://namura.cc
X-WR-CALDESC:クリエイティブセンター大阪（CCO） のイベント
REFRESH-INTERVAL;VALUE=DURATION:PT1H
X-Robots-Tag:noindex
X-PUBLISHED-TTL:PT1H
BEGIN:VTIMEZONE
TZID:Asia/Tokyo
BEGIN:STANDARD
TZOFFSETFROM:+0900
TZOFFSETTO:+0900
TZNAME:JST
DTSTART:20250101T000000
END:STANDARD
END:VTIMEZONE
BEGIN:VEVENT
DTSTART;VALUE=DATE:20250614
DTEND;VALUE=DATE:20250616
DTSTAMP:20260422T005041
CREATED:20250607T071234Z
LAST-MODIFIED:20250611T083723Z
UID:6101-1749859200-1750031999@namura.cc
SUMMARY:Nepal Festival Osaka
DESCRIPTION:□日時\n2025年\n6月14日(土) 10:00-21:00\n6月15日(日) 10:00-20:00 \n□入場料\n入場無料 \n□詳しくは\nイベントの詳細は、ネパールフェスティバルの公式Facebookページ「Nepal Festival Osaka Official」にて順次ご案内いたします。\nWe will inform you more details about this event via Nepal Festival’s Facebook ” Nepal Festival osaka Official
URL:https://namura.cc/event/20250614-15/
ATTACH;FMTTYPE=image/jpeg:https://namura.cc/wp-content/uploads/2025/06/20250614-15.jpg
END:VEVENT
END:VCALENDAR