BEGIN:VCALENDAR
VERSION:2.0
PRODID:-//クリエイティブセンター大阪（CCO） - ECPv6.2.1//NONSGML v1.0//EN
CALSCALE:GREGORIAN
METHOD:PUBLISH
X-WR-CALNAME:クリエイティブセンター大阪（CCO）
X-ORIGINAL-URL:https://namura.cc
X-WR-CALDESC:クリエイティブセンター大阪（CCO） のイベント
REFRESH-INTERVAL;VALUE=DURATION:PT1H
X-Robots-Tag:noindex
X-PUBLISHED-TTL:PT1H
BEGIN:VTIMEZONE
TZID:Asia/Tokyo
BEGIN:STANDARD
TZOFFSETFROM:+0900
TZOFFSETTO:+0900
TZNAME:JST
DTSTART:20250101T000000
END:STANDARD
END:VTIMEZONE
BEGIN:VEVENT
DTSTART;VALUE=DATE:20250821
DTEND;VALUE=DATE:20250822
DTSTAMP:20260421T211829
CREATED:20250819T041704Z
LAST-MODIFIED:20250819T041704Z
UID:6220-1755734400-1755820799@namura.cc
SUMMARY:MARVELOUS OSAKA
DESCRIPTION:□日時\n2025年8月21日(木)\nOPEN:14:00-\nCLOSE: 20:00- \n□チケット\n前売¥1\,000 / 当日¥3\,000\n※12歳未満入場料のみ無料\n※入場の際に別途¥2\,000必要(2drink1food代) \n□詳しくは\nhttps://www.instagram.com/marvelous_group/
URL:https://namura.cc/event/20250821/
ATTACH;FMTTYPE=image/jpeg:https://namura.cc/wp-content/uploads/2025/08/20250821.jpg
END:VEVENT
END:VCALENDAR