BEGIN:VCALENDAR
VERSION:2.0
PRODID:-//クリエイティブセンター大阪（CCO） - ECPv6.2.1//NONSGML v1.0//EN
CALSCALE:GREGORIAN
METHOD:PUBLISH
X-ORIGINAL-URL:https://namura.cc
X-WR-CALDESC:クリエイティブセンター大阪（CCO） のイベント
REFRESH-INTERVAL;VALUE=DURATION:PT1H
X-Robots-Tag:noindex
X-PUBLISHED-TTL:PT1H
BEGIN:VTIMEZONE
TZID:Asia/Tokyo
BEGIN:STANDARD
TZOFFSETFROM:+0900
TZOFFSETTO:+0900
TZNAME:JST
DTSTART:20250101T000000
END:STANDARD
END:VTIMEZONE
BEGIN:VEVENT
DTSTART;VALUE=DATE:20251010
DTEND;VALUE=DATE:20251013
DTSTAMP:20260421T181253
CREATED:20250829T065214Z
LAST-MODIFIED:20250921T075944Z
UID:6249-1760054400-1760313599@namura.cc
SUMMARY:北加賀屋 MULTI BARTHE　 @CCO敷地内駐車スペース
DESCRIPTION:こちらのお問合せは大阪サウナ DESSE 06-4256-4137までお願いします。 \n□日時\n2025年9月20日（土）～11月3日（月・祝）の金土日、祝日\n11:00～21:00（金曜日のみ15時開場） \n□会場\nCCO敷地内駐車スペース\n※同日クリエイティブセンター大阪敷地内の各施設で別のイベント開催中ですので予めご了承下さい。 \n□チケット\n2時間制 4\,500円（税込）\nhttps://coubic.com/desse/2772931 \n□詳しくは\nhttps://multi.barthe.world/ \n□お問い合わせ\n大阪サウナ DESSE　06-4256-4137
URL:https://namura.cc/event/202510-12/
ATTACH;FMTTYPE=image/jpeg:https://namura.cc/wp-content/uploads/2025/08/multi-barthe.jpeg
END:VEVENT
BEGIN:VEVENT
DTSTART;VALUE=DATE:20251011
DTEND;VALUE=DATE:20251013
DTSTAMP:20260421T181253
CREATED:20250918T072152Z
LAST-MODIFIED:20251011T011455Z
UID:6287-1760140800-1760313599@namura.cc
SUMMARY:Suprer Robocos Expo -スーパーロボコス大展-
DESCRIPTION:□日時\n・2025年10月11日(土）\n13:00-19:00\n・2025年10月12日(日）\n10:00-17:00 \n□詳しくはこちら\nhttps://www.super-robocos-expo.com/sre5th-56/alex
URL:https://namura.cc/event/20251011-12/
ATTACH;FMTTYPE=image/jpeg:https://namura.cc/wp-content/uploads/2025/09/Super_Robocos_Expo_6th.jpeg
END:VEVENT
END:VCALENDAR