BEGIN:VCALENDAR
VERSION:2.0
PRODID:-//クリエイティブセンター大阪（CCO） - ECPv6.2.1//NONSGML v1.0//EN
CALSCALE:GREGORIAN
METHOD:PUBLISH
X-ORIGINAL-URL:https://namura.cc
X-WR-CALDESC:クリエイティブセンター大阪（CCO） のイベント
REFRESH-INTERVAL;VALUE=DURATION:PT1H
X-Robots-Tag:noindex
X-PUBLISHED-TTL:PT1H
BEGIN:VTIMEZONE
TZID:Asia/Tokyo
BEGIN:STANDARD
TZOFFSETFROM:+0900
TZOFFSETTO:+0900
TZNAME:JST
DTSTART:20260101T000000
END:STANDARD
END:VTIMEZONE
BEGIN:VEVENT
DTSTART;TZID=Asia/Tokyo:20260104T000000
DTEND;TZID=Asia/Tokyo:20260104T235900
DTSTAMP:20260421T125628
CREATED:20251224T051739Z
LAST-MODIFIED:20251224T051739Z
UID:6492-1767484800-1767571140@namura.cc
SUMMARY:休館日
DESCRIPTION:
URL:https://namura.cc/event/20260104/
ATTACH;FMTTYPE=:
END:VEVENT
END:VCALENDAR