BEGIN:VCALENDAR
VERSION:2.0
PRODID:-//クリエイティブセンター大阪（CCO） - ECPv6.2.1//NONSGML v1.0//EN
CALSCALE:GREGORIAN
METHOD:PUBLISH
X-ORIGINAL-URL:https://namura.cc
X-WR-CALDESC:クリエイティブセンター大阪（CCO） のイベント
REFRESH-INTERVAL;VALUE=DURATION:PT1H
X-Robots-Tag:noindex
X-PUBLISHED-TTL:PT1H
BEGIN:VTIMEZONE
TZID:Asia/Tokyo
BEGIN:STANDARD
TZOFFSETFROM:+0900
TZOFFSETTO:+0900
TZNAME:JST
DTSTART:20260101T000000
END:STANDARD
END:VTIMEZONE
BEGIN:VEVENT
DTSTART;VALUE=DATE:20260125
DTEND;VALUE=DATE:20260126
DTSTAMP:20260421T125644
CREATED:20260109T034044Z
LAST-MODIFIED:20260109T034044Z
UID:6514-1769299200-1769385599@namura.cc
SUMMARY:なにわ ink EXPO
DESCRIPTION:▪️日時\n2026年1月25日(日)\n12:00-20:00 \n▪️チケット\n5\,000円＋1ドリンク\n※18歳以下入場無料 \n▪️詳しくは\nhttps://naniwa-ink-expo.jp
URL:https://namura.cc/event/20260125/
ATTACH;FMTTYPE=image/jpeg:https://namura.cc/wp-content/uploads/2026/01/20260125.jpg
END:VEVENT
END:VCALENDAR