BEGIN:VCALENDAR
VERSION:2.0
PRODID:-//クリエイティブセンター大阪（CCO） - ECPv6.2.1//NONSGML v1.0//EN
CALSCALE:GREGORIAN
METHOD:PUBLISH
X-WR-CALNAME:クリエイティブセンター大阪（CCO）
X-ORIGINAL-URL:https://namura.cc
X-WR-CALDESC:クリエイティブセンター大阪（CCO） のイベント
REFRESH-INTERVAL;VALUE=DURATION:PT1H
X-Robots-Tag:noindex
X-PUBLISHED-TTL:PT1H
BEGIN:VTIMEZONE
TZID:Asia/Tokyo
BEGIN:STANDARD
TZOFFSETFROM:+0900
TZOFFSETTO:+0900
TZNAME:JST
DTSTART:20260101T000000
END:STANDARD
END:VTIMEZONE
BEGIN:VEVENT
DTSTART;VALUE=DATE:20260207
DTEND;VALUE=DATE:20260216
DTSTAMP:20260421T111359
CREATED:20251224T050034Z
LAST-MODIFIED:20251224T050034Z
UID:6481-1770422400-1771199999@namura.cc
SUMMARY:IMME SIVE VOYAGE〜世界を旅する没入型写真展〜
DESCRIPTION:▪️日時\n2026年2月7日(土)〜15日(日)\n※日によって変動しますのでお気をつけください \n7日(土)：11:00 ~ 15:00(プレオープン)/15:30 ~ 20:30(通常営業)\n8日 (日)：11:00 ~ 20:30\n9日 (月)：休館日\n10日 (火)：14:00 ~ 20:30\n11日 (水/祝)：11:00 ~ 20:30\n12日 (木)：休館日\n13日 (金)：14:00 ~ 20:30\n14日 (土)：11:00 ~ 20:30\n15日 (日)：11:00 ~ 20:30 \n▪️チケット\n2\,000円〜 \n▪️詳しくは\nhttps://sites.google.com/view/immersive-voyage/
URL:https://namura.cc/event/20260207-15/
ATTACH;FMTTYPE=image/jpeg:https://namura.cc/wp-content/uploads/2025/12/20260207.jpg
END:VEVENT
BEGIN:VEVENT
DTSTART;VALUE=DATE:20260208
DTEND;VALUE=DATE:20260209
DTSTAMP:20260421T111359
CREATED:20260205T042532Z
LAST-MODIFIED:20260205T042558Z
UID:6540-1770508800-1770595199@namura.cc
SUMMARY:DROP POROX ダンス発表会
DESCRIPTION:□日時\n2026年2月8日(日)\nOPEN 11:30-\nSTART 12:00-\nCLOSE 17:35-
URL:https://namura.cc/event/20260208/
ATTACH;FMTTYPE=:
END:VEVENT
END:VCALENDAR