BEGIN:VCALENDAR
VERSION:2.0
PRODID:-//クリエイティブセンター大阪（CCO） - ECPv6.2.1//NONSGML v1.0//EN
CALSCALE:GREGORIAN
METHOD:PUBLISH
X-ORIGINAL-URL:https://namura.cc
X-WR-CALDESC:クリエイティブセンター大阪（CCO） のイベント
REFRESH-INTERVAL;VALUE=DURATION:PT1H
X-Robots-Tag:noindex
X-PUBLISHED-TTL:PT1H
BEGIN:VTIMEZONE
TZID:Asia/Tokyo
BEGIN:STANDARD
TZOFFSETFROM:+0900
TZOFFSETTO:+0900
TZNAME:JST
DTSTART:20260101T000000
END:STANDARD
END:VTIMEZONE
BEGIN:VEVENT
DTSTART;VALUE=DATE:20260221
DTEND;VALUE=DATE:20260222
DTSTAMP:20260421T110329
CREATED:20251224T054404Z
LAST-MODIFIED:20251224T054404Z
UID:6498-1771632000-1771718399@namura.cc
SUMMARY:V-VILLAGE vol.1
DESCRIPTION:▪️日時\n2026年2月21日(土)\nOPEN：13:00\nSTART：14:00\nCLOSE：19:00 〔予定〕 \n▪️チケット\n前売り：¥3\,000\n当日：¥3\,500\nチケット + 1D ¥500 \n▪️詳しくは\nhttps://www.instagram.com/vvillage_official/
URL:https://namura.cc/event/20260221/
ATTACH;FMTTYPE=image/jpeg:https://namura.cc/wp-content/uploads/2025/12/20260221.jpg
END:VEVENT
END:VCALENDAR