BEGIN:VCALENDAR
VERSION:2.0
PRODID:-//クリエイティブセンター大阪（CCO） - ECPv6.2.1//NONSGML v1.0//EN
CALSCALE:GREGORIAN
METHOD:PUBLISH
X-ORIGINAL-URL:https://namura.cc
X-WR-CALDESC:クリエイティブセンター大阪（CCO） のイベント
REFRESH-INTERVAL;VALUE=DURATION:PT1H
X-Robots-Tag:noindex
X-PUBLISHED-TTL:PT1H
BEGIN:VTIMEZONE
TZID:Asia/Tokyo
BEGIN:STANDARD
TZOFFSETFROM:+0900
TZOFFSETTO:+0900
TZNAME:JST
DTSTART:20260101T000000
END:STANDARD
END:VTIMEZONE
BEGIN:VEVENT
DTSTART;VALUE=DATE:20260228
DTEND;VALUE=DATE:20260302
DTSTAMP:20260421T092332
CREATED:20251224T042452Z
LAST-MODIFIED:20260108T023140Z
UID:6469-1772236800-1772409599@namura.cc
SUMMARY:HOMEWORKS 2025 10th Anniversary
DESCRIPTION:▪️日時\n2026年\n2月28日（土）&3月1日（日）\n11:00〜18:30  \n▪️入場料\n1\,500円（会場払い）\n学生500円\n高校生以下無料（学生証、証明証を提示） \n▪️詳しくは\nhttps://homeworks2025.peatix.com/
URL:https://namura.cc/event/20260228-0301/
ATTACH;FMTTYPE=image/jpeg:https://namura.cc/wp-content/uploads/2025/12/20260228.jpg
END:VEVENT
END:VCALENDAR